Workbook

Sheet Hướng dẫn
B2: SỔ DOANH THU CHO QUÁN ĂN, QUÁN CÀ PHÊ — MẪU S1a-HKD
B3: Dành cho hộ kinh doanh có doanh thu năm từ 1 tỷ đồng trở xuống (không chịu thuế GTGT, không phải nộp thuế TNCN). Bản mẫu miễn phí từ iMenu — menudientu.com
B5: Bước 1 | C5: Sheet 'Ghi hằng ngày': nhập Năm (ô B2). Ngày trong năm tự điền sẵn.
B6: Bước 2 | C6: Cuối mỗi ngày, nhập số tiền theo từng hình thức thu vào các ô nền vàng. Cột 'Tổng ngày' tự cộng.
B7: Bước 3 | C7: Sheet 'Sổ S1a-HKD': điền tên hộ, địa chỉ, mã số thuế, địa điểm. Doanh thu từng tháng tự tổng hợp — in và ký khi cần.
B8: Bước 4 | C8: Sheet 'Theo dõi ngưỡng': xem doanh thu lũy kế so với ngưỡng 1 tỷ đồng để chuẩn bị kịp nếu sắp vượt.
B10: Quy ước màu
B11: Ô nền vàng, chữ xanh | C11: Ô anh/chị nhập số liệu.
B12: Ô chữ đen | C12: Công thức tự tính — không cần sửa.
B14: Ví dụ một dòng ghi hằng ngày (chỉ để tham khảo, không nằm trong sổ)
B15: Ngày | C15: Tiền mặt | D15: Chuyển khoản / QR | E15: Quẹt thẻ | F15: App giao đồ ăn | G15: Khác | H15: Tổng ngày
B16: 15/01 | C16: 2350000 | D16: 3120000 | E16: 0 | F16: 860000 | G16: 0 | H16: =SUM(C16:G16) -> 6330000
B18: Lưu ý khi ghi:
B19: • Ghi doanh thu bán hàng thực tế, kể cả tiền mặt. Chuyển khoản/QR nên khớp với sao kê tài khoản kinh doanh.
B20: • App giao đồ ăn: ghi tổng giá trị đơn theo báo cáo đối soát của app; lưu lại báo cáo đó. Không ghi lần nữa ở cột Chuyển khoản khi app chuyển tiền về.
B21: • Đơn hủy, hoàn tiền: không tính vào doanh thu ngày; ghi lý do ở cột Ghi chú.
B22: • Thông tư 152/2025/TT-BTC cho phép ghi theo từng nghiệp vụ hoặc theo định kỳ, lưu sổ bằng bản giấy hoặc điện tử, tối thiểu 05 năm.
B23: • Ngưỡng 1 tỷ đồng/năm theo Nghị định 141/2026/NĐ-CP (hiệu lực từ 01/01/2026). Quy định có thể thay đổi — đối chiếu với cơ quan thuế quản lý trực tiếp.
B24: • Bản mẫu này hỗ trợ ghi chép, không thay thế tư vấn thuế hoặc kế toán.

Sheet Ghi hằng ngày
A1: GHI DOANH THU HẰNG NGÀY
A2: Năm: | B2: 2026 | C2: Đơn vị tính: đồng
A4: Ngày | B4: Tiền mặt | C4: Chuyển khoản / QR | D4: Quẹt thẻ | E4: App giao đồ ăn (tổng giá trị đơn) | F4: Khác | G4: Tổng ngày | H4: Ghi chú (hủy, hoàn tiền...)
A5: =IF(YEAR(DATE($B$2,1,1)+0)=$B$2,DATE($B$2,1,1)+0,"") -> 46023 | G5: =IF(A5="","",SUM(B5:F5)) -> 0
A6: =IF(YEAR(DATE($B$2,1,1)+1)=$B$2,DATE($B$2,1,1)+1,"") -> 46024 | G6: =IF(A6="","",SUM(B6:F6)) -> 0
A7: =IF(YEAR(DATE($B$2,1,1)+2)=$B$2,DATE($B$2,1,1)+2,"") -> 46025 | G7: =IF(A7="","",SUM(B7:F7)) -> 0
A8: =IF(YEAR(DATE($B$2,1,1)+3)=$B$2,DATE($B$2,1,1)+3,"") -> 46026 | G8: =IF(A8="","",SUM(B8:F8)) -> 0
A9: =IF(YEAR(DATE($B$2,1,1)+4)=$B$2,DATE($B$2,1,1)+4,"") -> 46027 | G9: =IF(A9="","",SUM(B9:F9)) -> 0
A10: =IF(YEAR(DATE($B$2,1,1)+5)=$B$2,DATE($B$2,1,1)+5,"") -> 46028 | G10: =IF(A10="","",SUM(B10:F10)) -> 0
A11: =IF(YEAR(DATE($B$2,1,1)+6)=$B$2,DATE($B$2,1,1)+6,"") -> 46029 | G11: =IF(A11="","",SUM(B11:F11)) -> 0
A12: =IF(YEAR(DATE($B$2,1,1)+7)=$B$2,DATE($B$2,1,1)+7,"") -> 46030 | G12: =IF(A12="","",SUM(B12:F12)) -> 0
A13: =IF(YEAR(DATE($B$2,1,1)+8)=$B$2,DATE($B$2,1,1)+8,"") -> 46031 | G13: =IF(A13="","",SUM(B13:F13)) -> 0
A14: =IF(YEAR(DATE($B$2,1,1)+9)=$B$2,DATE($B$2,1,1)+9,"") -> 46032 | G14: =IF(A14="","",SUM(B14:F14)) -> 0
A15: =IF(YEAR(DATE($B$2,1,1)+10)=$B$2,DATE($B$2,1,1)+10,"") -> 46033 | G15: =IF(A15="","",SUM(B15:F15)) -> 0
A16: =IF(YEAR(DATE($B$2,1,1)+11)=$B$2,DATE($B$2,1,1)+11,"") -> 46034 | G16: =IF(A16="","",SUM(B16:F16)) -> 0
A17: =IF(YEAR(DATE($B$2,1,1)+12)=$B$2,DATE($B$2,1,1)+12,"") -> 46035 | G17: =IF(A17="","",SUM(B17:F17)) -> 0
A18: =IF(YEAR(DATE($B$2,1,1)+13)=$B$2,DATE($B$2,1,1)+13,"") -> 46036 | G18: =IF(A18="","",SUM(B18:F18)) -> 0
A19: =IF(YEAR(DATE($B$2,1,1)+14)=$B$2,DATE($B$2,1,1)+14,"") -> 46037 | G19: =IF(A19="","",SUM(B19:F19)) -> 0
A20: =IF(YEAR(DATE($B$2,1,1)+15)=$B$2,DATE($B$2,1,1)+15,"") -> 46038 | G20: =IF(A20="","",SUM(B20:F20)) -> 0
A21: =IF(YEAR(DATE($B$2,1,1)+16)=$B$2,DATE($B$2,1,1)+16,"") -> 46039 | G21: =IF(A21="","",SUM(B21:F21)) -> 0
A22: =IF(YEAR(DATE($B$2,1,1)+17)=$B$2,DATE($B$2,1,1)+17,"") -> 46040 | G22: =IF(A22="","",SUM(B22:F22)) -> 0
A23: =IF(YEAR(DATE($B$2,1,1)+18)=$B$2,DATE($B$2,1,1)+18,"") -> 46041 | G23: =IF(A23="","",SUM(B23:F23)) -> 0
A24: =IF(YEAR(DATE($B$2,1,1)+19)=$B$2,DATE($B$2,1,1)+19,"") -> 46042 | G24: =IF(A24="","",SUM(B24:F24)) -> 0
A25: =IF(YEAR(DATE($B$2,1,1)+20)=$B$2,DATE($B$2,1,1)+20,"") -> 46043 | G25: =IF(A25="","",SUM(B25:F25)) -> 0
A26: =IF(YEAR(DATE($B$2,1,1)+21)=$B$2,DATE($B$2,1,1)+21,"") -> 46044 | G26: =IF(A26="","",SUM(B26:F26)) -> 0
A27: =IF(YEAR(DATE($B$2,1,1)+22)=$B$2,DATE($B$2,1,1)+22,"") -> 46045 | G27: =IF(A27="","",SUM(B27:F27)) -> 0
A28: =IF(YEAR(DATE($B$2,1,1)+23)=$B$2,DATE($B$2,1,1)+23,"") -> 46046 | G28: =IF(A28="","",SUM(B28:F28)) -> 0
A29: =IF(YEAR(DATE($B$2,1,1)+24)=$B$2,DATE($B$2,1,1)+24,"") -> 46047 | G29: =IF(A29="","",SUM(B29:F29)) -> 0
A30: =IF(YEAR(DATE($B$2,1,1)+25)=$B$2,DATE($B$2,1,1)+25,"") -> 46048 | G30: =IF(A30="","",SUM(B30:F30)) -> 0
A31: =IF(YEAR(DATE($B$2,1,1)+26)=$B$2,DATE($B$2,1,1)+26,"") -> 46049 | G31: =IF(A31="","",SUM(B31:F31)) -> 0
A32: =IF(YEAR(DATE($B$2,1,1)+27)=$B$2,DATE($B$2,1,1)+27,"") -> 46050 | G32: =IF(A32="","",SUM(B32:F32)) -> 0
A33: =IF(YEAR(DATE($B$2,1,1)+28)=$B$2,DATE($B$2,1,1)+28,"") -> 46051 | G33: =IF(A33="","",SUM(B33:F33)) -> 0
A34: =IF(YEAR(DATE($B$2,1,1)+29)=$B$2,DATE($B$2,1,1)+29,"") -> 46052 | G34: =IF(A34="","",SUM(B34:F34)) -> 0
A35: =IF(YEAR(DATE($B$2,1,1)+30)=$B$2,DATE($B$2,1,1)+30,"") -> 46053 | G35: =IF(A35="","",SUM(B35:F35)) -> 0
A36: =IF(YEAR(DATE($B$2,1,1)+31)=$B$2,DATE($B$2,1,1)+31,"") -> 46054 | G36: =IF(A36="","",SUM(B36:F36)) -> 0
A37: =IF(YEAR(DATE($B$2,1,1)+32)=$B$2,DATE($B$2,1,1)+32,"") -> 46055 | G37: =IF(A37="","",SUM(B37:F37)) -> 0
A38: =IF(YEAR(DATE($B$2,1,1)+33)=$B$2,DATE($B$2,1,1)+33,"") -> 46056 | G38: =IF(A38="","",SUM(B38:F38)) -> 0
A39: =IF(YEAR(DATE($B$2,1,1)+34)=$B$2,DATE($B$2,1,1)+34,"") -> 46057 | G39: =IF(A39="","",SUM(B39:F39)) -> 0
A40: =IF(YEAR(DATE($B$2,1,1)+35)=$B$2,DATE($B$2,1,1)+35,"") -> 46058 | G40: =IF(A40="","",SUM(B40:F40)) -> 0
A41: =IF(YEAR(DATE($B$2,1,1)+36)=$B$2,DATE($B$2,1,1)+36,"") -> 46059 | G41: =IF(A41="","",SUM(B41:F41)) -> 0
...

Sheet Sổ S1a-HKD
A1: HỘ, CÁ NHÂN KINH DOANH: | C1: Mẫu số S1a-HKD
A2: Địa chỉ: | C2: (Kèm theo Thông tư số 152/2025/TT-BTC ngày 31/12/2025 của Bộ trưởng Bộ Tài chính)
A3: Mã số thuế:
A5: SỔ DOANH THU BÁN HÀNG HÓA, DỊCH VỤ
A6: Địa điểm kinh doanh:
A7: Kỳ kê khai: | B7: ="Năm "&'Ghi hằng ngày'!$B$2 -> Năm 2026
C8: Đơn vị tính: đồng
A9: Ngày tháng | B9: Diễn giải | C9: Số tiền
A10: A | B10: B | C10: 1
A11: =DATE('Ghi hằng ngày'!$B$2,1+1,0) -> 46053 | B11: ="Doanh thu bán hàng ăn uống tháng 01/"&'Ghi hằng ngày'!$B$2 -> Doanh thu bán hàng ăn uống tháng 01/2026 | C11: =SUMIFS('Ghi hằng ngày'!$G$5:$G$370,'Ghi hằng ngày'!$A$5:$A$370,">="&DATE('Ghi hằng ngày'!$B$2,1,1),'Ghi hằng ngày'!$A$5:$A$370,"<="&DATE('Ghi hằng ngày'!$B$2,1+1,0)) -> 0
A12: =DATE('Ghi hằng ngày'!$B$2,2+1,0) -> 46081 | B12: ="Doanh thu bán hàng ăn uống tháng 02/"&'Ghi hằng ngày'!$B$2 -> Doanh thu bán hàng ăn uống tháng 02/2026 | C12: =SUMIFS('Ghi hằng ngày'!$G$5:$G$370,'Ghi hằng ngày'!$A$5:$A$370,">="&DATE('Ghi hằng ngày'!$B$2,2,1),'Ghi hằng ngày'!$A$5:$A$370,"<="&DATE('Ghi hằng ngày'!$B$2,2+1,0)) -> 0
A13: =DATE('Ghi hằng ngày'!$B$2,3+1,0) -> 46112 | B13: ="Doanh thu bán hàng ăn uống tháng 03/"&'Ghi hằng ngày'!$B$2 -> Doanh thu bán hàng ăn uống tháng 03/2026 | C13: =SUMIFS('Ghi hằng ngày'!$G$5:$G$370,'Ghi hằng ngày'!$A$5:$A$370,">="&DATE('Ghi hằng ngày'!$B$2,3,1),'Ghi hằng ngày'!$A$5:$A$370,"<="&DATE('Ghi hằng ngày'!$B$2,3+1,0)) -> 0
A14: =DATE('Ghi hằng ngày'!$B$2,4+1,0) -> 46142 | B14: ="Doanh thu bán hàng ăn uống tháng 04/"&'Ghi hằng ngày'!$B$2 -> Doanh thu bán hàng ăn uống tháng 04/2026 | C14: =SUMIFS('Ghi hằng ngày'!$G$5:$G$370,'Ghi hằng ngày'!$A$5:$A$370,">="&DATE('Ghi hằng ngày'!$B$2,4,1),'Ghi hằng ngày'!$A$5:$A$370,"<="&DATE('Ghi hằng ngày'!$B$2,4+1,0)) -> 0
A15: =DATE('Ghi hằng ngày'!$B$2,5+1,0) -> 46173 | B15: ="Doanh thu bán hàng ăn uống tháng 05/"&'Ghi hằng ngày'!$B$2 -> Doanh thu bán hàng ăn uống tháng 05/2026 | C15: =SUMIFS('Ghi hằng ngày'!$G$5:$G$370,'Ghi hằng ngày'!$A$5:$A$370,">="&DATE('Ghi hằng ngày'!$B$2,5,1),'Ghi hằng ngày'!$A$5:$A$370,"<="&DATE('Ghi hằng ngày'!$B$2,5+1,0)) -> 0
A16: =DATE('Ghi hằng ngày'!$B$2,6+1,0) -> 46203 | B16: ="Doanh thu bán hàng ăn uống tháng 06/"&'Ghi hằng ngày'!$B$2 -> Doanh thu bán hàng ăn uống tháng 06/2026 | C16: =SUMIFS('Ghi hằng ngày'!$G$5:$G$370,'Ghi hằng ngày'!$A$5:$A$370,">="&DATE('Ghi hằng ngày'!$B$2,6,1),'Ghi hằng ngày'!$A$5:$A$370,"<="&DATE('Ghi hằng ngày'!$B$2,6+1,0)) -> 0
A17: =DATE('Ghi hằng ngày'!$B$2,7+1,0) -> 46234 | B17: ="Doanh thu bán hàng ăn uống tháng 07/"&'Ghi hằng ngày'!$B$2 -> Doanh thu bán hàng ăn uống tháng 07/2026 | C17: =SUMIFS('Ghi hằng ngày'!$G$5:$G$370,'Ghi hằng ngày'!$A$5:$A$370,">="&DATE('Ghi hằng ngày'!$B$2,7,1),'Ghi hằng ngày'!$A$5:$A$370,"<="&DATE('Ghi hằng ngày'!$B$2,7+1,0)) -> 0
A18: =DATE('Ghi hằng ngày'!$B$2,8+1,0) -> 46265 | B18: ="Doanh thu bán hàng ăn uống tháng 08/"&'Ghi hằng ngày'!$B$2 -> Doanh thu bán hàng ăn uống tháng 08/2026 | C18: =SUMIFS('Ghi hằng ngày'!$G$5:$G$370,'Ghi hằng ngày'!$A$5:$A$370,">="&DATE('Ghi hằng ngày'!$B$2,8,1),'Ghi hằng ngày'!$A$5:$A$370,"<="&DATE('Ghi hằng ngày'!$B$2,8+1,0)) -> 0
A19: =DATE('Ghi hằng ngày'!$B$2,9+1,0) -> 46295 | B19: ="Doanh thu bán hàng ăn uống tháng 09/"&'Ghi hằng ngày'!$B$2 -> Doanh thu bán hàng ăn uống tháng 09/2026 | C19: =SUMIFS('Ghi hằng ngày'!$G$5:$G$370,'Ghi hằng ngày'!$A$5:$A$370,">="&DATE('Ghi hằng ngày'!$B$2,9,1),'Ghi hằng ngày'!$A$5:$A$370,"<="&DATE('Ghi hằng ngày'!$B$2,9+1,0)) -> 0
A20: =DATE('Ghi hằng ngày'!$B$2,10+1,0) -> 46326 | B20: ="Doanh thu bán hàng ăn uống tháng 10/"&'Ghi hằng ngày'!$B$2 -> Doanh thu bán hàng ăn uống tháng 10/2026 | C20: =SUMIFS('Ghi hằng ngày'!$G$5:$G$370,'Ghi hằng ngày'!$A$5:$A$370,">="&DATE('Ghi hằng ngày'!$B$2,10,1),'Ghi hằng ngày'!$A$5:$A$370,"<="&DATE('Ghi hằng ngày'!$B$2,10+1,0)) -> 0
A21: =DATE('Ghi hằng ngày'!$B$2,11+1,0) -> 46356 | B21: ="Doanh thu bán hàng ăn uống tháng 11/"&'Ghi hằng ngày'!$B$2 -> Doanh thu bán hàng ăn uống tháng 11/2026 | C21: =SUMIFS('Ghi hằng ngày'!$G$5:$G$370,'Ghi hằng ngày'!$A$5:$A$370,">="&DATE('Ghi hằng ngày'!$B$2,11,1),'Ghi hằng ngày'!$A$5:$A$370,"<="&DATE('Ghi hằng ngày'!$B$2,11+1,0)) -> 0
A22: =DATE('Ghi hằng ngày'!$B$2,12+1,0) -> 46387 | B22: ="Doanh thu bán hàng ăn uống tháng 12/"&'Ghi hằng ngày'!$B$2 -> Doanh thu bán hàng ăn uống tháng 12/2026 | C22: =SUMIFS('Ghi hằng ngày'!$G$5:$G$370,'Ghi hằng ngày'!$A$5:$A$370,">="&DATE('Ghi hằng ngày'!$B$2,12,1),'Ghi hằng ngày'!$A$5:$A$370,"<="&DATE('Ghi hằng ngày'!$B$2,12+1,0)) -> 0
B23: Tổng cộng | C23: =SUM(C11:C22) -> 0
C25: ="Ngày … tháng … năm "&'Ghi hằng ngày'!$B$2+1 -> Ngày … tháng … năm 2027
C26: NGƯỜI ĐẠI DIỆN HỘ KINH DOANH/ CÁ NHÂN KINH DOANH
C27: (Ký, ghi rõ họ tên, đóng dấu (nếu có))

Sheet Theo dõi ngưỡng
A1: THEO DÕI DOANH THU LŨY KẾ SO VỚI NGƯỠNG
A2: Ngưỡng doanh thu năm: | C2: 1000000000
A3: Mức cảnh báo sớm: | C3: 0.8
A5: Tháng | B5: Doanh thu tháng | C5: Lũy kế từ đầu năm | D5: % ngưỡng | E5: Tình trạng
A6: ="01/"&'Ghi hằng ngày'!$B$2 -> 01/2026 | B6: ='Sổ S1a-HKD'!C11 -> 0 | C6: =SUM($B$6:B6) -> 0 | D6: =IF($C$2>0,C6/$C$2,0) -> 0 | E6: =IF(C6>$C$2,"Đã vượt ngưỡng: đăng ký hóa đơn điện tử trong 30 ngày, kê khai thuế",IF(C6>=$C$2*$C$3,"Sắp chạm ngưỡng: chuẩn bị hóa đơn điện tử, hỏi kế toán","Trong ngưỡng")) -> Trong ngưỡng
A7: ="02/"&'Ghi hằng ngày'!$B$2 -> 02/2026 | B7: ='Sổ S1a-HKD'!C12 -> 0 | C7: =SUM($B$6:B7) -> 0 | D7: =IF($C$2>0,C7/$C$2,0) -> 0 | E7: =IF(C7>$C$2,"Đã vượt ngưỡng: đăng ký hóa đơn điện tử trong 30 ngày, kê khai thuế",IF(C7>=$C$2*$C$3,"Sắp chạm ngưỡng: chuẩn bị hóa đơn điện tử, hỏi kế toán","Trong ngưỡng")) -> Trong ngưỡng
A8: ="03/"&'Ghi hằng ngày'!$B$2 -> 03/2026 | B8: ='Sổ S1a-HKD'!C13 -> 0 | C8: =SUM($B$6:B8) -> 0 | D8: =IF($C$2>0,C8/$C$2,0) -> 0 | E8: =IF(C8>$C$2,"Đã vượt ngưỡng: đăng ký hóa đơn điện tử trong 30 ngày, kê khai thuế",IF(C8>=$C$2*$C$3,"Sắp chạm ngưỡng: chuẩn bị hóa đơn điện tử, hỏi kế toán","Trong ngưỡng")) -> Trong ngưỡng
A9: ="04/"&'Ghi hằng ngày'!$B$2 -> 04/2026 | B9: ='Sổ S1a-HKD'!C14 -> 0 | C9: =SUM($B$6:B9) -> 0 | D9: =IF($C$2>0,C9/$C$2,0) -> 0 | E9: =IF(C9>$C$2,"Đã vượt ngưỡng: đăng ký hóa đơn điện tử trong 30 ngày, kê khai thuế",IF(C9>=$C$2*$C$3,"Sắp chạm ngưỡng: chuẩn bị hóa đơn điện tử, hỏi kế toán","Trong ngưỡng")) -> Trong ngưỡng
A10: ="05/"&'Ghi hằng ngày'!$B$2 -> 05/2026 | B10: ='Sổ S1a-HKD'!C15 -> 0 | C10: =SUM($B$6:B10) -> 0 | D10: =IF($C$2>0,C10/$C$2,0) -> 0 | E10: =IF(C10>$C$2,"Đã vượt ngưỡng: đăng ký hóa đơn điện tử trong 30 ngày, kê khai thuế",IF(C10>=$C$2*$C$3,"Sắp chạm ngưỡng: chuẩn bị hóa đơn điện tử, hỏi kế toán","Trong ngưỡng")) -> Trong ngưỡng
A11: ="06/"&'Ghi hằng ngày'!$B$2 -> 06/2026 | B11: ='Sổ S1a-HKD'!C16 -> 0 | C11: =SUM($B$6:B11) -> 0 | D11: =IF($C$2>0,C11/$C$2,0) -> 0 | E11: =IF(C11>$C$2,"Đã vượt ngưỡng: đăng ký hóa đơn điện tử trong 30 ngày, kê khai thuế",IF(C11>=$C$2*$C$3,"Sắp chạm ngưỡng: chuẩn bị hóa đơn điện tử, hỏi kế toán","Trong ngưỡng")) -> Trong ngưỡng
A12: ="07/"&'Ghi hằng ngày'!$B$2 -> 07/2026 | B12: ='Sổ S1a-HKD'!C17 -> 0 | C12: =SUM($B$6:B12) -> 0 | D12: =IF($C$2>0,C12/$C$2,0) -> 0 | E12: =IF(C12>$C$2,"Đã vượt ngưỡng: đăng ký hóa đơn điện tử trong 30 ngày, kê khai thuế",IF(C12>=$C$2*$C$3,"Sắp chạm ngưỡng: chuẩn bị hóa đơn điện tử, hỏi kế toán","Trong ngưỡng")) -> Trong ngưỡng
A13: ="08/"&'Ghi hằng ngày'!$B$2 -> 08/2026 | B13: ='Sổ S1a-HKD'!C18 -> 0 | C13: =SUM($B$6:B13) -> 0 | D13: =IF($C$2>0,C13/$C$2,0) -> 0 | E13: =IF(C13>$C$2,"Đã vượt ngưỡng: đăng ký hóa đơn điện tử trong 30 ngày, kê khai thuế",IF(C13>=$C$2*$C$3,"Sắp chạm ngưỡng: chuẩn bị hóa đơn điện tử, hỏi kế toán","Trong ngưỡng")) -> Trong ngưỡng
A14: ="09/"&'Ghi hằng ngày'!$B$2 -> 09/2026 | B14: ='Sổ S1a-HKD'!C19 -> 0 | C14: =SUM($B$6:B14) -> 0 | D14: =IF($C$2>0,C14/$C$2,0) -> 0 | E14: =IF(C14>$C$2,"Đã vượt ngưỡng: đăng ký hóa đơn điện tử trong 30 ngày, kê khai thuế",IF(C14>=$C$2*$C$3,"Sắp chạm ngưỡng: chuẩn bị hóa đơn điện tử, hỏi kế toán","Trong ngưỡng")) -> Trong ngưỡng
A15: ="10/"&'Ghi hằng ngày'!$B$2 -> 10/2026 | B15: ='Sổ S1a-HKD'!C20 -> 0 | C15: =SUM($B$6:B15) -> 0 | D15: =IF($C$2>0,C15/$C$2,0) -> 0 | E15: =IF(C15>$C$2,"Đã vượt ngưỡng: đăng ký hóa đơn điện tử trong 30 ngày, kê khai thuế",IF(C15>=$C$2*$C$3,"Sắp chạm ngưỡng: chuẩn bị hóa đơn điện tử, hỏi kế toán","Trong ngưỡng")) -> Trong ngưỡng
A16: ="11/"&'Ghi hằng ngày'!$B$2 -> 11/2026 | B16: ='Sổ S1a-HKD'!C21 -> 0 | C16: =SUM($B$6:B16) -> 0 | D16: =IF($C$2>0,C16/$C$2,0) -> 0 | E16: =IF(C16>$C$2,"Đã vượt ngưỡng: đăng ký hóa đơn điện tử trong 30 ngày, kê khai thuế",IF(C16>=$C$2*$C$3,"Sắp chạm ngưỡng: chuẩn bị hóa đơn điện tử, hỏi kế toán","Trong ngưỡng")) -> Trong ngưỡng
A17: ="12/"&'Ghi hằng ngày'!$B$2 -> 12/2026 | B17: ='Sổ S1a-HKD'!C22 -> 0 | C17: =SUM($B$6:B17) -> 0 | D17: =IF($C$2>0,C17/$C$2,0) -> 0 | E17: =IF(C17>$C$2,"Đã vượt ngưỡng: đăng ký hóa đơn điện tử trong 30 ngày, kê khai thuế",IF(C17>=$C$2*$C$3,"Sắp chạm ngưỡng: chuẩn bị hóa đơn điện tử, hỏi kế toán","Trong ngưỡng")) -> Trong ngưỡng
A19: Ghi chú: hộ có doanh thu năm trên 1 tỷ đồng phải dùng hóa đơn điện tử (có mã của cơ quan thuế hoặc khởi tạo từ máy tính tiền) và kê khai thuế GTGT, TNCN. Thời hạn đăng ký hóa đơn điện tử: 30 ngày kể từ ngày cuối cùng của kỳ tính thuế có doanh thu lũy kế vượt 1 tỷ đồng. Đối chiếu với cơ quan thuế quản lý trực tiếp trước khi thực hiện.
